Workbook

Sheet Datos Generales
F11: Institución:
F13: Número de edificios:
F14: Responsable institucional:
F15: Dependencia:
F17: Responsable de registro:
F18: Dependencia:
F19: Teléfono:
F20: Correo electrónico:
F22: Año al que corresponde el reporte:

Sheet edificio 1
A1: INSTITUCIÓN: | C1: Oficina Nacional de Semillas
A2: EDIFICIO/DEPENDENCIA: | C2: 1
A3: AÑO DEL REPORTE: | C3: 2017
A4: FECHA DE ACTUALIZACIÓN: | C4: 43011
A5: ENCARGADO DE REGISTRO: | C5: Ing. Emilio Fournier Castro
A6: # DE CONEXIÓN/NIS: | C6: 3204205
C7: (Nota: En caso de contar con el servicio del AyA se pueden consultar el consumo de agua en la siguiente página http://www.aya.go.cr/ServicioCliente/ConsultaRecibo/Index.aspx, ingresando el número de NIS).
B10: Mes | C10: Consumo de agua (m3) | D10: Gasto (miles de colones) | E10: Nº de empleados | F10: Consumo agua/ empleado (m3 /Nº emp)
B11: Enero | C11: 24 | D11: 47718 | E11: 21 | F11: =IF(C11=0,"",C11/E11) -> 1.1428571
B12: Febrero | C12: 26 | D12: 51982 | E12: 21 | F12: =IF(C12=0,"",C12/E12) -> 1.2380952
B13: Marzo | C13: 20 | D13: 39190 | E13: 21 | F13: =IF(C13=0,"",C13/E13) -> 0.95238095
B14: Abril | C14: 18 | D14: 34926 | E14: 21 | F14: =IF(C14=0,"",C14/E14) -> 0.85714286
B15: Mayo | C15: 18 | D15: 34926 | E15: 20 | F15: =IF(C15=0,"",C15/E15) -> 0.9
B16: Junio | C16: 20 | D16: 39190 | E16: 20 | F16: =IF(C16=0,"",C16/E16) -> 1
B17: Julio | C17: 21 | D17: 41322 | E17: 20 | F17: =IF(C17=0,"",C17/E17) -> 1.05
B18: Agosto | C18: 15 | D18: 28530 | E18: 20 | F18: =IF(C18=0,"",C18/E18) -> 0.75
B19: Septiembre | C19: 16 | D19: 31448 | E19: 20 | F19: =IF(C19=0,"",C19/E19) -> 0.8
B20: Octubre | F20: =IF(C20=0,"",C20/E20)
B21: Noviembre | F21: =IF(C21=0,"",C21/E21)
B22: Diciembre | F22: =IF(C22=0,"",C22/E22)
B23: Total | C23: =IF(SUM(C11:C22)=0,"",SUM(C11:C22)) -> 178 | D23: =IF(SUM(D11:D22)=0,"",SUM(D11:D22)) -> 349232 | E23: --- | F23: ---
B24: Promedio | C24: =IF(SUM(C11:C22)=0," ",AVERAGE(C11:C22)) -> 19.777778 | D24: =IF(SUM(D11:D22)=0," ",AVERAGE(D11:D22)) -> 38803.556 | E24: =IF(SUM(E11:E22)=0,"",AVERAGE(E11:E22)) -> 20.444444 | F24: =IF(SUM(F11:F22)=0,"",AVERAGE(F11:F22)) -> 0.96560847

Sheet reporte institucional_Edificio
A2: NOMBRE DE LA INSTITUCION: | C2: =IF('Datos Generales'!I11="","",'Datos Generales'!I11)
A3: PERÍODO REPORTADO:
A6: Consumo de agua
A7: Edificio/ Dependencia | B7: Consumo agua (m3/mes) | C7: Gasto (miles de colones/mes) | D7: Número de empleados | E7: Consumo agua por empleado por mes (m3/empleado/mes)
A8: =IF('edificio 1'!$C$2="","",'edificio 1'!$C$2) -> 1 | B8: ='edificio 1'!C24 -> 19.777778 | C8: ='edificio 1'!$D$24 -> 38803.556 | D8: ='edificio 1'!E$24 -> 20.444444 | E8: =IF(B8=" "," ",B8/D8) -> 0.9673913
A9: =IF(#REF!="","",#REF!) -> #REF! | B9: =#REF! -> #REF! | C9: =#REF! -> #REF! | D9: =#REF! -> #REF! | E9: =IF(B9=" "," ",B9/D9) -> #REF!
A10: =IF(#REF!="","",#REF!) -> #REF! | B10: =#REF! -> #REF! | C10: =#REF! -> #REF! | D10: =#REF! -> #REF! | E10: =IF(B10=" "," ",B10/D10) -> #REF!
A11: =IF(#REF!="","",#REF!) -> #REF! | B11: =#REF! -> #REF! | C11: =#REF! -> #REF! | D11: =#REF! -> #REF! | E11: =IF(B11=" "," ",B11/D11) -> #REF!
A12: =IF(#REF!="","",#REF!) -> #REF! | B12: =#REF! -> #REF! | C12: =#REF! -> #REF! | D12: =#REF! -> #REF! | E12: =IF(B12=" "," ",B12/D12) -> #REF!
A13: =IF(#REF!="","",#REF!) -> #REF! | B13: =#REF! -> #REF! | C13: =#REF! -> #REF! | D13: =#REF! -> #REF! | E13: =IF(B13=" "," ",B13/D13) -> #REF!
A14: =IF(#REF!="","",#REF!) -> #REF! | B14: =#REF! -> #REF! | C14: =#REF! -> #REF! | D14: =#REF! -> #REF! | E14: =IF(B14=" "," ",B14/D14) -> #REF!
A15: =IF(#REF!="","",#REF!) -> #REF! | B15: =#REF! -> #REF! | C15: =#REF! -> #REF! | D15: =#REF! -> #REF! | E15: =IF(B15=" "," ",B15/D15) -> #REF!
A16: =IF(#REF!="","",#REF!) -> #REF! | B16: =#REF! -> #REF! | C16: =#REF! -> #REF! | D16: =#REF! -> #REF! | E16: =IF(B16=" "," ",B16/D16) -> #REF!
A17: =IF(#REF!="","",#REF!) -> #REF! | B17: =#REF! -> #REF! | C17: =#REF! -> #REF! | D17: =#REF! -> #REF! | E17: =IF(B17=" "," ",B17/D17) -> #REF!
A18: TOTAL | B18: =SUM(B8:B17) -> #REF! | C18: =SUM(C8:C17) -> #REF! | D18: =SUM(D8:D17) -> #REF! | E18: ---
A19: PROMEDIO | B19: --- | C19: --- | D19: --- | E19: =IF(B18="","",B18/D18) -> #REF!

Sheet reporte institucional_mes
A2: NOMBRE DE LA INSTITUCION: | C2: =IF('Datos Generales'!I11="","",'Datos Generales'!I11)
A3: AÑO DEL REPORTE:
A5: Consumo total de de agua en la institución
A6: Mes | B6: Consumo agua(m3) | C6: Gasto (miles de colones) | D6: Número de empleados | E6: Consumo agua por empleado al mes (m3 /Nº emp)
A7: enero | B7: =IF(SUM('edificio 1'!C11+#REF!+#REF!+#REF!+#REF!+#REF!+#REF!+#REF!+#REF!+#REF!)=0," ",SUM('edificio 1'!C11+#REF!+#REF!+#REF!+#REF!+#REF!+#REF!+#REF!+#REF!+#REF!)) -> #REF! | C7: =IF(SUM('edificio 1'!D11+#REF!+#REF!+#REF!+#REF!+#REF!+#REF!+#REF!+#REF!+#REF!)=0," ",SUM('edificio 1'!D11+#REF!+#REF!+#REF!+#REF!+#REF!+#REF!+#REF!+#REF!+#REF!)) -> #REF! | D7: =IF(SUM('edificio 1'!E11+#REF!+#REF!+#REF!+#REF!+#REF!+#REF!+#REF!+#REF!+#REF!)=0," ",SUM('edificio 1'!E11+#REF!+#REF!+#REF!+#REF!+#REF!+#REF!+#REF!+#REF!+#REF!)) -> #REF! | E7: =IF(B7=" "," ",B7/D7) -> #REF!
A8: febrero | B8: =IF(SUM('edificio 1'!C12+#REF!+#REF!+#REF!+#REF!+#REF!+#REF!+#REF!+#REF!+#REF!)=0," ",SUM('edificio 1'!C12+#REF!+#REF!+#REF!+#REF!+#REF!+#REF!+#REF!+#REF!+#REF!)) -> #REF! | C8: =IF(SUM('edificio 1'!D12+#REF!+#REF!+#REF!+#REF!+#REF!+#REF!+#REF!+#REF!+#REF!)=0," ",SUM('edificio 1'!D12+#REF!+#REF!+#REF!+#REF!+#REF!+#REF!+#REF!+#REF!+#REF!)) -> #REF! | D8: =IF(SUM('edificio 1'!E12+#REF!+#REF!+#REF!+#REF!+#REF!+#REF!+#REF!+#REF!+#REF!)=0," ",SUM('edificio 1'!E12+#REF!+#REF!+#REF!+#REF!+#REF!+#REF!+#REF!+#REF!+#REF!)) -> #REF! | E8: =IF(B8=" "," ",B8/D8) -> #REF!
A9: marzo | B9: =IF(SUM('edificio 1'!C13+#REF!+#REF!+#REF!+#REF!+#REF!+#REF!+#REF!+#REF!+#REF!)=0," ",SUM('edificio 1'!C13+#REF!+#REF!+#REF!+#REF!+#REF!+#REF!+#REF!+#REF!+#REF!)) -> #REF! | C9: =IF(SUM('edificio 1'!D13+#REF!+#REF!+#REF!+#REF!+#REF!+#REF!+#REF!+#REF!+#REF!)=0," ",SUM('edificio 1'!D13+#REF!+#REF!+#REF!+#REF!+#REF!+#REF!+#REF!+#REF!+#REF!)) -> #REF! | D9: =IF(SUM('edificio 1'!E13+#REF!+#REF!+#REF!+#REF!+#REF!+#REF!+#REF!+#REF!+#REF!)=0," ",SUM('edificio 1'!E13+#REF!+#REF!+#REF!+#REF!+#REF!+#REF!+#REF!+#REF!+#REF!)) -> #REF! | E9: =IF(B9=" "," ",B9/D9) -> #REF!
A10: abril | B10: =IF(SUM('edificio 1'!C14+#REF!+#REF!+#REF!+#REF!+#REF!+#REF!+#REF!+#REF!+#REF!)=0," ",SUM('edificio 1'!C14+#REF!+#REF!+#REF!+#REF!+#REF!+#REF!+#REF!+#REF!+#REF!)) -> #REF! | C10: =IF(SUM('edificio 1'!D14+#REF!+#REF!+#REF!+#REF!+#REF!+#REF!+#REF!+#REF!+#REF!)=0," ",SUM('edificio 1'!D14+#REF!+#REF!+#REF!+#REF!+#REF!+#REF!+#REF!+#REF!+#REF!)) -> #REF! | D10: =IF(SUM('edificio 1'!E14+#REF!+#REF!+#REF!+#REF!+#REF!+#REF!+#REF!+#REF!+#REF!)=0," ",SUM('edificio 1'!E14+#REF!+#REF!+#REF!+#REF!+#REF!+#REF!+#REF!+#REF!+#REF!)) -> #REF! | E10: =IF(B10=" "," ",B10/D10) -> #REF!
A11: mayo | B11: =IF(SUM('edificio 1'!C15+#REF!+#REF!+#REF!+#REF!+#REF!+#REF!+#REF!+#REF!+#REF!)=0," ",SUM('edificio 1'!C15+#REF!+#REF!+#REF!+#REF!+#REF!+#REF!+#REF!+#REF!+#REF!)) -> #REF! | C11: =IF(SUM('edificio 1'!D15+#REF!+#REF!+#REF!+#REF!+#REF!+#REF!+#REF!+#REF!+#REF!)=0," ",SUM('edificio 1'!D15+#REF!+#REF!+#REF!+#REF!+#REF!+#REF!+#REF!+#REF!+#REF!)) -> #REF! | D11: =IF(SUM('edificio 1'!E15+#REF!+#REF!+#REF!+#REF!+#REF!+#REF!+#REF!+#REF!+#REF!)=0," ",SUM('edificio 1'!E15+#REF!+#REF!+#REF!+#REF!+#REF!+#REF!+#REF!+#REF!+#REF!)) -> #REF! | E11: =IF(B11=" "," ",B11/D11) -> #REF!
A12: junio | B12: =IF(SUM('edificio 1'!C16+#REF!+#REF!+#REF!+#REF!+#REF!+#REF!+#REF!+#REF!+#REF!)=0," ",SUM('edificio 1'!C16+#REF!+#REF!+#REF!+#REF!+#REF!+#REF!+#REF!+#REF!+#REF!)) -> #REF! | C12: =IF(SUM('edificio 1'!D16+#REF!+#REF!+#REF!+#REF!+#REF!+#REF!+#REF!+#REF!+#REF!)=0," ",SUM('edificio 1'!D16+#REF!+#REF!+#REF!+#REF!+#REF!+#REF!+#REF!+#REF!+#REF!)) -> #REF! | D12: =IF(SUM('edificio 1'!E16+#REF!+#REF!+#REF!+#REF!+#REF!+#REF!+#REF!+#REF!+#REF!)=0," ",SUM('edificio 1'!E16+#REF!+#REF!+#REF!+#REF!+#REF!+#REF!+#REF!+#REF!+#REF!)) -> #REF! | E12: =IF(B12=" "," ",B12/D12) -> #REF!
A13: julio | B13: =IF(SUM('edificio 1'!C17+#REF!+#REF!+#REF!+#REF!+#REF!+#REF!+#REF!+#REF!+#REF!)=0," ",SUM('edificio 1'!C17+#REF!+#REF!+#REF!+#REF!+#REF!+#REF!+#REF!+#REF!+#REF!)) -> #REF! | C13: =IF(SUM('edificio 1'!D17+#REF!+#REF!+#REF!+#REF!+#REF!+#REF!+#REF!+#REF!+#REF!)=0," ",SUM('edificio 1'!D17+#REF!+#REF!+#REF!+#REF!+#REF!+#REF!+#REF!+#REF!+#REF!)) -> #REF! | D13: =IF(SUM('edificio 1'!E17+#REF!+#REF!+#REF!+#REF!+#REF!+#REF!+#REF!+#REF!+#REF!)=0," ",SUM('edificio 1'!E17+#REF!+#REF!+#REF!+#REF!+#REF!+#REF!+#REF!+#REF!+#REF!)) -> #REF! | E13: =IF(B13=" "," ",B13/D13) -> #REF!
A14: agosto | B14: =IF(SUM('edificio 1'!C18+#REF!+#REF!+#REF!+#REF!+#REF!+#REF!+#REF!+#REF!+#REF!)=0," ",SUM('edificio 1'!C18+#REF!+#REF!+#REF!+#REF!+#REF!+#REF!+#REF!+#REF!+#REF!)) -> #REF! | C14: =IF(SUM('edificio 1'!D18+#REF!+#REF!+#REF!+#REF!+#REF!+#REF!+#REF!+#REF!+#REF!)=0," ",SUM('edificio 1'!D18+#REF!+#REF!+#REF!+#REF!+#REF!+#REF!+#REF!+#REF!+#REF!)) -> #REF! | D14: =IF(SUM('edificio 1'!E18+#REF!+#REF!+#REF!+#REF!+#REF!+#REF!+#REF!+#REF!+#REF!)=0," ",SUM('edificio 1'!E18+#REF!+#REF!+#REF!+#REF!+#REF!+#REF!+#REF!+#REF!+#REF!)) -> #REF! | E14: =IF(B14=" "," ",B14/D14) -> #REF!
A15: septiembre | B15: =IF(SUM('edificio 1'!C19+#REF!+#REF!+#REF!+#REF!+#REF!+#REF!+#REF!+#REF!+#REF!)=0," ",SUM('edificio 1'!C19+#REF!+#REF!+#REF!+#REF!+#REF!+#REF!+#REF!+#REF!+#REF!)) -> #REF! | C15: =IF(SUM('edificio 1'!D19+#REF!+#REF!+#REF!+#REF!+#REF!+#REF!+#REF!+#REF!+#REF!)=0," ",SUM('edificio 1'!D19+#REF!+#REF!+#REF!+#REF!+#REF!+#REF!+#REF!+#REF!+#REF!)) -> #REF! | D15: =IF(SUM('edificio 1'!E19+#REF!+#REF!+#REF!+#REF!+#REF!+#REF!+#REF!+#REF!+#REF!)=0," ",SUM('edificio 1'!E19+#REF!+#REF!+#REF!+#REF!+#REF!+#REF!+#REF!+#REF!+#REF!)) -> #REF! | E15: =IF(B15=" "," ",B15/D15) -> #REF!
A16: octubre | B16: =IF(SUM('edificio 1'!C20+#REF!+#REF!+#REF!+#REF!+#REF!+#REF!+#REF!+#REF!+#REF!)=0," ",SUM('edificio 1'!C20+#REF!+#REF!+#REF!+#REF!+#REF!+#REF!+#REF!+#REF!+#REF!)) -> #REF! | C16: =IF(SUM('edificio 1'!D20+#REF!+#REF!+#REF!+#REF!+#REF!+#REF!+#REF!+#REF!+#REF!)=0," ",SUM('edificio 1'!D20+#REF!+#REF!+#REF!+#REF!+#REF!+#REF!+#REF!+#REF!+#REF!)) -> #REF! | D16: =IF(SUM('edificio 1'!E20+#REF!+#REF!+#REF!+#REF!+#REF!+#REF!+#REF!+#REF!+#REF!)=0," ",SUM('edificio 1'!E20+#REF!+#REF!+#REF!+#REF!+#REF!+#REF!+#REF!+#REF!+#REF!)) -> #REF! | E16: =IF(B16=" "," ",B16/D16) -> #REF!
A17: noviembre | B17: =IF(SUM('edificio 1'!C21+#REF!+#REF!+#REF!+#REF!+#REF!+#REF!+#REF!+#REF!+#REF!)=0," ",SUM('edificio 1'!C21+#REF!+#REF!+#REF!+#REF!+#REF!+#REF!+#REF!+#REF!+#REF!)) -> #REF! | C17: =IF(SUM('edificio 1'!D21+#REF!+#REF!+#REF!+#REF!+#REF!+#REF!+#REF!+#REF!+#REF!)=0," ",SUM('edificio 1'!D21+#REF!+#REF!+#REF!+#REF!+#REF!+#REF!+#REF!+#REF!+#REF!)) -> #REF! | D17: =IF(SUM('edificio 1'!E21+#REF!+#REF!+#REF!+#REF!+#REF!+#REF!+#REF!+#REF!+#REF!)=0," ",SUM('edificio 1'!E21+#REF!+#REF!+#REF!+#REF!+#REF!+#REF!+#REF!+#REF!+#REF!)) -> #REF! | E17: =IF(B17=" "," ",B17/D17) -> #REF!
A18: diciembre | B18: =IF(SUM('edificio 1'!C22+#REF!+#REF!+#REF!+#REF!+#REF!+#REF!+#REF!+#REF!+#REF!)=0," ",SUM('edificio 1'!C22+#REF!+#REF!+#REF!+#REF!+#REF!+#REF!+#REF!+#REF!+#REF!)) -> #REF! | C18: =IF(SUM('edificio 1'!D22+#REF!+#REF!+#REF!+#REF!+#REF!+#REF!+#REF!+#REF!+#REF!)=0," ",SUM('edificio 1'!D22+#REF!+#REF!+#REF!+#REF!+#REF!+#REF!+#REF!+#REF!+#REF!)) -> #REF! | D18: =IF(SUM('edificio 1'!E22+#REF!+#REF!+#REF!+#REF!+#REF!+#REF!+#REF!+#REF!+#REF!)=0," ",SUM('edificio 1'!E22+#REF!+#REF!+#REF!+#REF!+#REF!+#REF!+#REF!+#REF!+#REF!)) -> #REF! | E18: =IF(B18=" "," ",B18/D18) -> #REF!
A19: TOTAL | B19: =SUM(B7:B18) -> #REF! | C19: =SUM(C7:C16) -> #REF! | D19: --- | E19: ---
A20: PROMEDIO | B20: =IF(SUM(B7:B18)=" "," ",AVERAGE(B7:B18)) -> #REF! | C20: =IF(SUM(C7:C18)=" "," ",AVERAGE(C7:C18)) -> #REF! | D20: =AVERAGEIF(D7:D18,">0",D7:D18) -> #DIV/0! | E20: =IF(SUM(E7:E18)=0,"",AVERAGE(E7:E18)) -> #REF!
